BEGIN:VCALENDAR
VERSION:2.0
PRODID:-//Squarespace Inc/Squarespace 6//v6//EN
BEGIN:VEVENT
UID:5b10fd4303ce64e67d94fa4f@squarespace.com
DTSTAMP:20180607T131111Z
DTSTART:20180711T063000Z
DTEND:20180711T143000Z
SUMMARY:Formation Emailing - Niveau 3
GEO:36.096336;-86.740463
LOCATION:LC Academie\, 1a Zone um Woeller\, Soleuvre\, 4410\, Luxembourg
END:VEVENT
END:VCALENDAR
