BEGIN:VCALENDAR
VERSION:2.0
PRODID:-//Squarespace Inc/Squarespace 6//v6//EN
BEGIN:VEVENT
UID:5b10fb7a0e2e724150eb3870@squarespace.com
DTSTAMP:20180607T131103Z
DTSTART:20180627T063000Z
DTEND:20180627T143000Z
SUMMARY:Formation Emailing - Niveau 2
GEO:49.537966;5.936208
LOCATION:LC Academie\, 1a Zone um Woeller\, Soleuvre\, 4410\, Luxembourg
END:VEVENT
END:VCALENDAR
