BEGIN:VCALENDAR
VERSION:2.0
PRODID:-//Squarespace Inc/Squarespace 6//v6//EN
BEGIN:VEVENT
UID:5b1112ffaa4a993871c8069f@squarespace.com
DTSTAMP:20180607T131133Z
DTSTART:20180523T094500Z
DTEND:20180523T120000Z
SUMMARY:Lunch & Learn - Robotic process automation
GEO:49.641722;6.00834
LOCATION:Paul Eischen\, Parc d'Activites Capellen\, Mamer\, District de Lux
 embourg\, 8308\, Luxembourg
END:VEVENT
END:VCALENDAR
