BEGIN:VCALENDAR
VERSION:2.0
PRODID:-//Squarespace Inc/Squarespace 6//v6//EN
BEGIN:VEVENT
UID:5b1110a10e2e724150ecef94@squarespace.com
DTSTAMP:20180607T131148Z
DTSTART:20180322T104500Z
DTEND:20180322T130000Z
SUMMARY:Lunch & Learn - Chatbot
GEO:49.640417;6.006737
LOCATION:Fujitsu\, 89C Rue Pafebruch\, Mamer\, District de Luxembourg\, 830
 8\, Luxembourg
END:VEVENT
END:VCALENDAR
