BEGIN:VCALENDAR
VERSION:2.0
PRODID:-//Squarespace Inc/Squarespace 6//v6//EN
BEGIN:VEVENT
UID:5b10fa6f352f5357e0519075@squarespace.com
DTSTAMP:20180607T131126Z
DTSTART:20181218T090000Z
DTEND:20181218T110000Z
SUMMARY:Réseaux sociaux et stratégie de com : trouvez le bon mix !
GEO:32.867812;-117.228473
LOCATION:Nvision\, 7 Rue Jean Fischbach\, Leudelange\, District de Luxembou
 rg\, 3372\, Luxembourg
END:VEVENT
END:VCALENDAR
