BEGIN:VCALENDAR
VERSION:2.0
PRODID:-//Squarespace Inc/Squarespace 6//v6//EN
BEGIN:VEVENT
UID:5b10f58803ce64e67d945868@squarespace.com
DTSTAMP:20180607T131118Z
DTSTART:20181206T090000Z
DTEND:20181206T110000Z
SUMMARY:Les dessous de la publicité digitale
GEO:49.566422;6.07619
LOCATION:Nvision\, 7 Rue Jean Fischbach\, Leudelange\, District de Luxembou
 rg\, 3372\, Luxembourg
END:VEVENT
END:VCALENDAR
